BEGIN:VCALENDAR
VERSION:2.0
PRODID:-//TYPO3/WES Cal (wes_cal)//DE
METHOD:PUBLISH
BEGIN:VEVENT
UID:https://www.friedrichshafen.de_33596
DTSTAMP:20260421T121622
DTSTART:20241119T100000
CATEGORIES:Kinder-/Jugendtheater,Kinder & Familie,Schauspiel & Theater
SUMMARY:Das Alles Archiv oder der Dominoeffekt der Dinge (10+)
DESCRIPTION:Christian Cadenbach, Hannah Holthaus & Emanuel Pielow: SchauspielSilvia Andringa: Inszenierung\r\nEin Archiv sammelt: Dinge, die verloren gegangen sind, die wir bewahren, die wir vergessen oder wiedergefunden haben. Und jedes dieser Dinge hat eine Geschichte mit einem Anfang. Doch was ist, wenn wir diese Geschichte nicht kennen? Wenn es den Startpunkt nicht gibt, der die Geschichte ins Rollen bringt? Zwei neugierige Schauspieler und eine Schauspielerin fragen in dem Stück „Das Alles Archiv“ nach eben jenen Geschichten und nach der Bedeutung der Dinge: Warum liegt dieser einzelne Schuh am Straßenrand? Wie viele Arten von Tränen gibt es und warum macht Shoppen so viel Spaß? Die Schauspielenden durchforsten das Archiv, erfinden Geschichten, forschen mit ihren Körpern, denken mit dem Publikum und stellen sich letztendlich die Frage: Was brauche ich eigentlich wirklich? Ein Stück über Anfänge und Folgen – und über die Dominoeffekte unserer Gedanken, Gefühle und Handlungen.\r\nDie Produktion wurde für den Kölner Tanz- und Theaterpreis 2023 nominiert!\r\nDauer: 70 Minuten Hinweis: Für den Blick hinter die Kulissen steht ein digitaler Impulsraum (Padlet) zur Verfügung – insbesondere für Schulklassen geeignet.\r\nAnmeldungen nimmt das Kulturbüro mit der Angabe des Namens der Schule, der Adresse und der Klassenstufe entgegen: kulturbuero@friedrichshafen.de
LOCATION:Kiesel im k42, 88045 Friedrichshafen
END:VEVENT
END:VCALENDAR