BEGIN:VCALENDAR
VERSION:2.0
PRODID:-//TYPO3/WES Cal (wes_cal)//DE
METHOD:PUBLISH
BEGIN:VEVENT
UID:https://www.friedrichshafen.de_20274
DTSTAMP:20260420T133204
DTSTART:20211030T110000
CATEGORIES:Kinder-/Jugendtheater,Kinder & Familie,Kinder & Familie,Schauspiel & Theater
SUMMARY:Daheim in der Welt (für Kinder)
DESCRIPTION:für Kinder ab 4 Jahren  Fundstücke auf der Suche nach einem Zuhause Theater Thalias Kompagnons  Ein Zuhause braucht jeder. Menschen, bei denen man sich geborgen fühlt. Manchmal muss man sich so einen Platz erst suchen. Oder erschaffen. Allein oder gemeinsam mit anderen. So geht es auch den kleinen Sachen, die der Theaterspieler gefunden und geschenkt bekommen hat. Strandsteine, ein Schneckenhaus, ein zierliches Puppenkissen … Sie alle bekommen auf dem Theaterhocker Gelegenheit, für sich und füreinander zu sorgen, gemeinsam eine Welt zu entdecken und in ihr heimisch zu werden.  Dauer: ca. 30 Minuten
LOCATION:Kiesel im k42, 88045 Friedrichshafen
END:VEVENT
END:VCALENDAR