BEGIN:VCALENDAR
VERSION:2.0
PRODID:-//TYPO3/WES Cal (wes_cal)//DE
METHOD:PUBLISH
BEGIN:VEVENT
UID:https://www.friedrichshafen.de_20299
DTSTAMP:20260420T132036
DTSTART:20211019T170000
CATEGORIES:Sonstiges,Workshops,Kinder-/Jugendtheater,Tanz,Tanz,Kinder & Familie,Sonstiges,Kinder & Familie,Sonstiges,Sport & Freizeit,Tanz,Schauspiel & Theater
SUMMARY:Contemporary-Workshop
DESCRIPTION:mit der Frantics Dance Company  Der Workshop der jungen Compagnie Frantics bietet eine physisch kraftvolle und emotionale Tanzerfahrung. Die Tanzsprache der Compagnie stimuliert die Sinne und umfasst eine große Bandbreite an Bewegungsarten- und qualitäten. Bodenarbeit und Partnering sind essenzielle Elemente der Truppe, deren Stil sich zwischen Breakdance und zeitgenössischem Tanz bewegt. Mit dem Erlernen einer kurzen Sequenz der Choreografie schließt der Workshop ab.  Dauer: ca. 90 Minuten  Infos und Anmeldung: Kulturbüro Friedrichshafen, Melanie Eisele, m.eisele@friedrichshafen.de, T: 203-3311
LOCATION:Jugend- und Kulturzentrum MOLKE, 88045 Friedrichshafen
END:VEVENT
END:VCALENDAR