BEGIN:VCALENDAR
VERSION:2.0
PRODID:-//TYPO3/WES Cal (wes_cal)//DE
METHOD:PUBLISH
BEGIN:VEVENT
UID:https://www.friedrichshafen.de_8312
DTSTAMP:20260420T132618
DTSTART:20220127T110000
CATEGORIES:Kinder-/Jugendtheater,Theater,Kinder & Familie,Schauspiel & Theater,Kinder & Familie
SUMMARY:„Bei Vollmond spricht man nicht“ (für Kinder) 
DESCRIPTION:Theater Zitadelle, Berlin Eine aufregende Reise durch ein Märchenland\r\nAlter: Ab 6 Jahren (1. – 4. Klasse)\r\nWie oft hat Prinzessin Lora das von ihrem Vater schon gehört: „Kind, mit vollem Mund spricht man nicht.“ Doch ihr gehen die Vorschriften im Schloss mächtig auf die Nerven. Lora möchte Abenteuer erleben und die Welt entdecken! Leider ist ihr Vater ein viel zu beschäftigter König und bekommt nicht mit, was seine Tochter wirklich braucht. Und deshalb merkt er auch nicht, dass Lora sich heimlich auf eine Abenteuerreise macht … Sie begegnet Zwergen, einer Hexe, dem Riesenkind Mariese und allerlei freundlichen und weniger freundlichen Geschöpfen. Die Prinzessin lernt auch einen Prinzen kennen – und am Ende der Vater seine Tochter.\r\nDie Jury schrieb: „Die Tiefe der Figuren, das fabelhafte Spiel, welches die Grenzen zwischen Schau- und Puppenspiel völlig aufhebt, der Witz und die Liebe zum Detail (…) machen ´Bei Vollmond spricht man nicht´ zu einem Muss für alle Puppenspielfans.\r\nDauer: ca. 50 Minuten
LOCATION:Kiesel im k42, 88045 Friedrichshafen
END:VEVENT
END:VCALENDAR