BEGIN:VCALENDAR
VERSION:2.0
PRODID:-//TYPO3/WES Cal (wes_cal)//DE
METHOD:PUBLISH
BEGIN:VEVENT
UID:https://www.friedrichshafen.de_20119
DTSTAMP:20260420T145305
DTSTART:20211006T193000
CATEGORIES:Schauspiel,Literatur,Literatur,Schauspiel & Theater
SUMMARY:Alles was Sie wollen
DESCRIPTION:von Matthieu Delaporte und Alexandre de la Patellière Deutsch von Georg Holzer Kathrin Sievers Regie Wolfgang Borchert Theater, Münster  Die Dramatikerin Lucie leidet unter einer Schreibblockade. Gedankenverloren lässt sie eines Tages ihre Badewanne überlaufen. Das merkt ihr Nachbar Thomas, weil es bei ihm von der Decke tropft. Aus der oberflächlichen Nachbarschaftsbekanntschaft entwickelt sich ein zunehmend vertrautes Verhältnis. Nach wie vor aber brütet Lucie über ihrem nächsten Theaterstück. Sie kann nur über das schreiben, was sie erlebt. Thomas hilft ihr, die Blockade zu überwinden, bis er realisiert, worüber Lucie diesmal mit neu entfachter Inspiration schreibt.  Diese typisch französische Komödie startet mit viel Witz und rasantem Tempo, um sich als anrührende, nachdenkliche und zugleich unterhaltsame Geschichte über die Anfänge und Stolpersteine romantischer Beziehungen zu entpuppen.  Dauer: 90 Minuten, keine Pause  „… das Borchert-Theater in Münster macht in der Regie von Kathrin Sievers aus der furiosen und im Wortsinn mehrschichtigen Story aus der Feder des französischen Autorenduos […] kein übliches Boulevard-Stück, sondern eine tiefsinnige Komödie – in der dramatische Wendungen durchschimmern.“ (Westfälische Nachrichten)  Der Einzelkartenverkauf startet am 15.09.2021.  Abonnement "Studiotheater im Bahnhof Fischbach"
LOCATION:Bahnhof Fischbach, 88048 Friedrichshafen
END:VEVENT
END:VCALENDAR