BEGIN:VCALENDAR
VERSION:2.0
PRODID:-//TYPO3/WES Cal (wes_cal)//DE
METHOD:PUBLISH
BEGIN:VEVENT
UID:https://www.friedrichshafen.de_20923
DTSTAMP:20260420T103922
DTSTART:20211204T190000
CATEGORIES:Konzert,Musik,Musik
SUMMARY:Adventskonzert bei Kerzenschein
DESCRIPTION:Nikolai Gersak spielt an der Woehl-Orgel Orgelwerke aus Barock, Romantik und Moderne. Auf dem Programm stehen Kompositionen von Nikolaus Bruhns, César Franck, Olivier Messiaen und Johann Sebastian Bach. Die Kirche wird stimmungsvoll nur mit Kerzen beleuchtet.  Karten ab 18.15 h an der Abendkasse.
LOCATION:St. Nikolaus – Stadt, 88045 Friedrichshafen
END:VEVENT
END:VCALENDAR