BEGIN:VCALENDAR
VERSION:2.0
PRODID:-//TYPO3/WES Cal (wes_cal)//DE
METHOD:PUBLISH
BEGIN:VEVENT
UID:https://www.friedrichshafen.de_39481
DTSTAMP:20260425T193045
DTSTART:20260502T090000
DTEND:20260502T130000
CATEGORIES:Veranstaltungs-Kategorien,Märkte,Feste, Festivals & Märkte
SUMMARY:Schlemmermarkt - mit dem Seemannschor Friedrichshafen und Pflänzletauschtag BUND
DESCRIPTION:Beim beim Pflanzentauschstand des BUND Friedrichshafen auf dem Schlemmermarkt kann heute wieder fleißig getauscht werden. Wer Garten- oder Balkonpflanzen übrig hat, kann sie hier gegen andere eintauschen oder auch Pflanzen ohne „Tauschobjekte“ gegen eine kleine Spende erwerben.\r\nAußerdem sorgt der Seemannschor Friedrichshafen von  11.30 bis 13 Uhr mit seinen Liedern für maritimen Flair und Stimmung auf dem Adenauerplatz. \r\nDer Schlemmermarkt findet jeden Samstag auf dem Adenauerplatz statt.\r\nNeue Marktzeiten: jeden Samstag,  9 - 13 Uhr, Gastronomie bis 15 Uhr\r\nWeitere Infos finden Sie unter: www.schlemmermarkt-fn.de\r\nMarktkalender Friedrichshafen
LOCATION:Adenauerplatz, 88045 Friedrichshafen
ATTACH:https://www.friedrichshafen.de/fileadmin/BENUTZERDATEN/Stadtmarketing/Nachrichten/IMG-2314.jpg
END:VEVENT
END:VCALENDAR