BEGIN:VCALENDAR
VERSION:2.0
PRODID:-//TYPO3/WES Cal (wes_cal)//DE
METHOD:PUBLISH
BEGIN:VEVENT
UID:https://www.friedrichshafen.de_39480
DTSTAMP:20260425T193101
DTSTART:20260425T090000
DTEND:20260425T130000
CATEGORIES:Veranstaltungs-Kategorien,Märkte,Feste, Festivals & Märkte
SUMMARY:Schlemmermarkt
DESCRIPTION:Der Schlemmermarkt findet jeden Samstag auf dem Adenauerplatz statt.\r\nNeue Marktzeiten: jeden Samstag,  9 - 13 Uhr, Gastronomie bis 15 Uhr\r\nWeitere Infos finden Sie unter: www.schlemmermarkt-fn.de\r\nMarktkalender Friedrichshafen
LOCATION:Adenauerplatz, 88045 Friedrichshafen
ATTACH:https://www.friedrichshafen.de/fileadmin/BENUTZERDATEN/friedrichshafen.de/Statische_Seiten/Seiten/Kultur_Freizeit_Einkaufen/schlemmermarkt-2144-x-1000-Pixel.jpg
END:VEVENT
END:VCALENDAR